BEGIN:VCALENDAR
VERSION:2.0
PRODID:-//ChamberMaster//Event Calendar 2.0//EN
METHOD:PUBLISH
X-PUBLISHED-TTL:P3D
REFRESH-INTERVAL:P3D
CALSCALE:GREGORIAN
BEGIN:VEVENT
DTSTART:20260516T170000Z
DTEND:20260517T010000Z
X-MICROSOFT-CDO-ALLDAYEVENT:FALSE
SUMMARY:PolitiCA Fest
DESCRIPTION:This event will be a combination of entertainment and informational segments. We're going to have a magician (who's appeared on TV)\, a comedian (who's been on a few different shows)\, and a few bands. On the informational side\, we're going to be hosting panels on the youth\, disadvantaged communities\, and more. We're also going to be hosting forums for candidates running for Governor and Congress.
X-ALT-DESC;FMTTYPE=text/html:This event will be a combination of entertainment and informational segments. We&#39\;re going to have a magician (who&#39\;s appeared on TV)\, a comedian (who&#39\;s been on a few different shows)\, and a few bands. On the informational side\, we&#39\;re going to be hosting panels on the youth\, disadvantaged communities\, and more. We&#39\;re also going to be hosting forums for candidates running for Governor and Congress.
LOCATION:1555 Simi Town Center Way\, Simi Valley\, CA 93065
UID:e.1956.8586
SEQUENCE:3
DTSTAMP:20260422T050026Z
URL:http://www.lbchamber.com.sampleorg.com/events/details/politica-fest-8586
END:VEVENT

END:VCALENDAR
