BEGIN:VCALENDAR
VERSION:2.0
PRODID:-//ChamberMaster//Event Calendar 2.0//EN
METHOD:PUBLISH
X-PUBLISHED-TTL:P3D
REFRESH-INTERVAL:P3D
CALSCALE:GREGORIAN
BEGIN:VEVENT
DTSTART:20260430T200000Z
DTEND:20260430T220000Z
X-MICROSOFT-CDO-ALLDAYEVENT:FALSE
SUMMARY:Walk to End Alzheimer's Company Luncheon
DESCRIPTION:Join us for an event hosted by the Alzheimer's Association . This gathering brings together influential leaders in the Long Beach area to learn more about the Association's mission\, the impact the disease has on our community and how your company can play a vital role in driving change through Walk to End Alzheimer's .
X-ALT-DESC;FMTTYPE=text/html:Join us for an event hosted by the Alzheimer&rsquo\;s Association&reg\;. This gathering brings together influential leaders in the Long Beach area to learn more about the Association&rsquo\;s mission\, the impact the disease has on our community and how your company can play a vital role in driving change through Walk to End Alzheimer&rsquo\;s&reg\;.
LOCATION:BLANKSPACES 309 Pine Ave. Long Beach\, CA 90802
UID:e.1956.8590
SEQUENCE:3
DTSTAMP:20260424T000804Z
URL:http://www.lbchamber.com.sampleorg.com/events/details/walk-to-end-alzheimer-s-company-luncheon-8590
END:VEVENT

END:VCALENDAR
